BEGIN:VCALENDAR
PRODID:-//eluceo/ical//2.0/EN
VERSION:2.0
CALSCALE:GREGORIAN
BEGIN:VEVENT
UID:66de6bf63544f3e91a27ef70b4000afe
DTSTAMP:20260423T090756Z
SUMMARY:Wingsuit-Fliegen- Spinner oder Extremsport
DESCRIPTION:Talare: Severin Ott\, Basejumper & Wingsuit-Flieger\, Swiss Bas
 e Association (SBA)
URL:https://rc-luzernseetal.ch/sv/agenda/show/65498
DTSTART;TZID=Europe/Zurich:20160719T000000
DTEND;TZID=Europe/Zurich:20160719T000000
LOCATION:Restaurant Bären Rothenburg
CATEGORIES:Rotary
END:VEVENT
BEGIN:VTIMEZONE
TZID:Europe/Zurich
BEGIN:DAYLIGHT
DTSTART:20160719T000000
TZNAME:CEST
TZOFFSETTO:+0200
TZOFFSETFROM:+0200
END:DAYLIGHT
END:VTIMEZONE
END:VCALENDAR
