BEGIN:VCALENDAR
PRODID:-//eluceo/ical//2.0/EN
VERSION:2.0
CALSCALE:GREGORIAN
BEGIN:VEVENT
UID:9f82dabe7dae40731878853f93c62407
DTSTAMP:20260424T100323Z
SUMMARY:EMPA Advanced Fibers - Wir spinnen
DESCRIPTION:Orador(es): Prof. Dr. Manfred Heuberger\, EMPA
URL:https://rc-luzernseetal.ch/es/agenda/show/65496
DTSTART;TZID=Europe/Zurich:20160712T000000
DTEND;TZID=Europe/Zurich:20160712T000000
LOCATION:Restaurant Gersag
CATEGORIES:Rotary
END:VEVENT
BEGIN:VTIMEZONE
TZID:Europe/Zurich
BEGIN:DAYLIGHT
DTSTART:20160712T000000
TZNAME:CEST
TZOFFSETTO:+0200
TZOFFSETFROM:+0200
END:DAYLIGHT
END:VTIMEZONE
END:VCALENDAR
