BEGIN:VCALENDAR
PRODID:-//eluceo/ical//2.0/EN
VERSION:2.0
CALSCALE:GREGORIAN
BEGIN:VEVENT
UID:7185161891e1ec71085edb02838d917b
DTSTAMP:20260424T072033Z
SUMMARY:ART for CHARITY
DESCRIPTION:Sitio web: http://www.akku-emmen.ch\nOrador(es): Shona Skulptur
 en 
URL:https://rc-luzernseetal.ch/es/agenda/show/63154
DTSTART;TZID=Europe/Zurich:20160618T000000
DTEND;TZID=Europe/Zurich:20160716T000000
LOCATION:akku Emmenbrücke 
CATEGORIES:Rotary
END:VEVENT
BEGIN:VTIMEZONE
TZID:Europe/Zurich
BEGIN:DAYLIGHT
DTSTART:20160618T000000
TZNAME:CEST
TZOFFSETTO:+0200
TZOFFSETFROM:+0200
END:DAYLIGHT
END:VTIMEZONE
END:VCALENDAR
