BEGIN:VCALENDAR
PRODID:-//eluceo/ical//2.0/EN
VERSION:2.0
CALSCALE:GREGORIAN
BEGIN:VEVENT
UID:1396253cdb0fc022578821a2e7414895
DTSTAMP:20260419T135840Z
SUMMARY:Ist ein Poulet heute noch ein GENUSS?
DESCRIPTION:Orador(es): Frau Christine Schlatter\, Leiterin Geschäftsberei
 ch Geflügel Zell
URL:https://rc-luzernseetal.ch/es/agenda/show/30588
DTSTART;TZID=Europe/Zurich:20130521T000000
DTEND;TZID=Europe/Zurich:20130521T000000
LOCATION:Restaurant Gersag
CATEGORIES:Rotary
END:VEVENT
BEGIN:VTIMEZONE
TZID:Europe/Zurich
BEGIN:DAYLIGHT
DTSTART:20130521T000000
TZNAME:CEST
TZOFFSETTO:+0200
TZOFFSETFROM:+0200
END:DAYLIGHT
END:VTIMEZONE
END:VCALENDAR
