BEGIN:VCALENDAR
PRODID:-//eluceo/ical//2.0/EN
VERSION:2.0
CALSCALE:GREGORIAN
BEGIN:VEVENT
UID:5600b7853fcef1be5308b0b8176e49f9
DTSTAMP:20260423T132507Z
SUMMARY:Oktoberfest Matinée
DESCRIPTION:\nMenü: \nWebseite: https://stadtkeller.ch\nReferenten/innen: 
 Partneranlass der Rotary Clubs Luzern\, Wasserturm\, Seetal\, Heidegg und 
 eClub Zentralschweiz
URL:https://rc-luzernseetal.ch/de/agenda/show/164032
DTSTART;TZID=Europe/Zurich:20230923T110000
DTEND;TZID=Europe/Zurich:20230923T150000
LOCATION:Stadtkeller Luzern
CATEGORIES:Rotary
END:VEVENT
BEGIN:VTIMEZONE
TZID:Europe/Zurich
BEGIN:DAYLIGHT
DTSTART:20230923T110000
TZNAME:CEST
TZOFFSETTO:+0200
TZOFFSETFROM:+0200
END:DAYLIGHT
END:VTIMEZONE
END:VCALENDAR
