BEGIN:VCALENDAR
PRODID:-//eluceo/ical//2.0/EN
VERSION:2.0
CALSCALE:GREGORIAN
BEGIN:VEVENT
UID:97218b786d4ccd18b6ed7665b208253d
DTSTAMP:20260423T174854Z
SUMMARY:Gletscherpflege - eine Utopie? Sollen Süsswasserspeicher für kün
 ftige Generationen erhalten werden?
DESCRIPTION:Dr. Felix Keller ist Glaziologe und die treibende Kraft von ein
 em visionären Projekt\, dass Gletscher vor dem Verschwinden retten könnt
 e. Mit Technologie aus Emmenbrücke haben die Forscher rund um Dr. Felix K
 eller eine Vision weiterentwickelt und stehen vor der Umsetzung.\n\nVision
 är\, spannend und dringend nötig!\nMenü: Teffpunkt:         18.
 30 Uhr Gebäude 745\, HSLU Kunst&Design in  der Viscosistadt\n     
                        in Emmenbrücke mit Apèro\n\
 nReferat:             19.00 Uhr Dr. Felix Keller\n\nNachtessen
 :      ca. 20.15 Uhr in der Stadtalp\, Emmenbrücke\n\nParkplätze: 
       können gleich bei der Stadtalp benützt werden (4 Gehminuten v
 on HSLU entfernt)\n\nKosten:              Fr. 65.-\nWebseite:
  https://goo.gl/maps/8ekrheBJRCiYauKAA\nReferenten/innen: Dr. Felix Keller
URL:https://rc-luzernseetal.ch/de/agenda/show/109016
DTSTART;TZID=Europe/Zurich:20200128T183000
DTEND;TZID=Europe/Zurich:20200128T230000
LOCATION:Gebäude 745\, Hochschule Luzern - Design&Kunst\, Viscosistadt Emm
 enbrücke
CATEGORIES:Rotary
END:VEVENT
BEGIN:VTIMEZONE
TZID:Europe/Zurich
BEGIN:STANDARD
DTSTART:20200128T183000
TZNAME:CET
TZOFFSETTO:+0100
TZOFFSETFROM:+0100
END:STANDARD
END:VTIMEZONE
END:VCALENDAR
