BEGIN:VCALENDAR
PRODID:-//eluceo/ical//2.0/EN
VERSION:2.0
CALSCALE:GREGORIAN
BEGIN:VEVENT
UID:2dea1f3fccfb0dbde6631e37c68a5792
DTSTAMP:20260423T204546Z
SUMMARY:Mein Leben als Paar
DESCRIPTION:SCHREIBER VS. SCHNEIDER\n\nSchreiber vs. Schneider\, die erfolg
 reichsten Kultkolumnisten der Schweiz\, lesen in ihrem sechsten Programm 
 «Mein Leben als Paar» rasant aus ihrem ganz normalen Beziehungswahnsinn 
 zwischen Küche und Camping\, Kindern und Karriere\, Kursen und Kollern. D
 ie Kunst\, über sich selbst zu lachen beherrscht das Duo perfekt\, den Al
 ltag und weitere Problemzonen einer Beziehung nimmt es mit Sprachwitz unte
 r die Lupe. «Mein Leben als Paar» ist deshalb ein selbstironischer Blick
  in zwei Spiegel: in ihren und seinen. Und bestimmt erkennt sich die ander
 e oder der andere dabei selbst. Was durchaus beabsichtigt ist. Denn wer ü
 ber sich selbst lacht\, hat als Paarläufer auch in der Zweisamkeit etwas 
 auf sicher: Spass.\nMenü: Datum:               Dienstag\, 27.
  August 2019 18.30 Uhr\n\nOrt:                     Südh
 ang\, Rutzigen 1\, 6274 Eschenbach\n\nKosten:               
 Fr 75.-\, nur Barzahlung\n\nAnmeldung:      bis 20. August 2019\n\nKo
 ntakt:             rotary.luzern.seetal@gmail.com\, Tel. 041 3
 61 11 71\nWebseite: https://goo.gl/maps/exwWVq9Nb1qHpzK1A\nReferenten/inne
 n: Schreiber vs. Schneider
URL:https://rc-luzernseetal.ch/de/agenda/show/100428
DTSTART;TZID=Europe/Zurich:20190827T183000
DTEND;TZID=Europe/Zurich:20190827T203000
LOCATION:Südhang\, 6274 Eschenbach
CATEGORIES:Rotary
END:VEVENT
BEGIN:VTIMEZONE
TZID:Europe/Zurich
BEGIN:DAYLIGHT
DTSTART:20190827T183000
TZNAME:CEST
TZOFFSETTO:+0200
TZOFFSETFROM:+0200
END:DAYLIGHT
END:VTIMEZONE
END:VCALENDAR
